OziExplorer Map Data File Version 2.2
G19B-Kopapo.png
sg19-3.png
1 ,Map Code,
Pulkovo 1942 (1),, 0.0000, 0.0000,WGS 84
Reserved 1
Reserved 2
Magnetic Variation,,,E
Map Projection,Latitude/Longitude,PolyCal,Yes,AutoCalOnly,No,BSBUseWPX,No
Point01,xy, 67, 105,in, deg, 26, 0.0000,S, 72, 0.0000,W, grid, , , ,
Point02,xy, 1841, 109,in, deg, 26, 0.0000,S, 70, 30.0000,W, grid, , , ,
Point03,xy, 3615, 124,in, deg, 26, 0.0000,S, 69, 0.0000,W, grid, , , ,
Point04,xy, 78, 1417,in, deg, 27, 0.0000,S, 72, 0.0000,W, grid, , , ,
Point05,xy, 1837, 1416,in, deg, 27, 0.0000,S, 70, 30.0000,W, grid, , , ,
Point06,xy, 3598, 1431,in, deg, 27, 0.0000,S, 69, 0.0000,W, grid, , , ,
Point07,xy, 89, 2728,in, deg, 28, 0.0000,S, 72, 0.0000,W, grid, , , ,
Point08,xy, 1834, 2723,in, deg, 28, 0.0000,S, 70, 30.0000,W, grid, , , ,
Point09,xy, 3578, 2740,in, deg, 28, 0.0000,S, 69, 0.0000,W, grid, , , ,
Point10,xy, , ,in, deg, , ,, , ,, grid, , , ,
Point11,xy, , ,in, deg, , ,, , ,, grid, , , ,
Point12,xy, , ,in, deg, , ,, , ,, grid, , , ,
Point13,xy, , ,in, deg, , ,, , ,, grid, , , ,
Point14,xy, , ,in, deg, , ,, , ,, grid, , , ,
Point15,xy, , ,in, deg, , ,, , ,, grid, , , ,
Point16,xy, , ,in, deg, , ,, , ,, grid, , , ,
Point17,xy, , ,in, deg, , ,, , ,, grid, , , ,
Point18,xy, , ,in, deg, , ,, , ,, grid, , , ,
Point19,xy, , ,in, deg, , ,, , ,, grid, , , ,
Point20,xy, , ,in, deg, , ,, , ,, grid, , , ,
Point21,xy, , ,in, deg, , ,, , ,, grid, , , ,
Point22,xy, , ,in, deg, , ,, , ,, grid, , , ,
Point23,xy, , ,in, deg, , ,, , ,, grid, , , ,
Point24,xy, , ,in, deg, , ,, , ,, grid, , , ,
Point25,xy, , ,in, deg, , ,, , ,, grid, , , ,
Point26,xy, , ,in, deg, , ,, , ,, grid, , , ,
Point27,xy, , ,in, deg, , ,, , ,, grid, , , ,
Point28,xy, , ,in, deg, , ,, , ,, grid, , , ,
Point29,xy, , ,in, deg, , ,, , ,, grid, , , ,
Point30,xy, , ,in, deg, , ,, , ,, grid, , , ,
Projection Setup,,,,,,,,,,
Map Feature = MF ; Map Comment = MC These follow if they exist
Track File = TF These follow if they exist
Moving Map Parameters = MM? These follow if they exist
MM0,Yes
MMPNUM,4
MMPXY,1,0,0
MMPXY,2,3732,1
MMPXY,3,3686,3084
MMPXY,4,0,3073
MMPLL,1, -72.055644, -25.918787
MMPLL,2, -68.902876, -25.904081
MMPLL,3, -68.903026, -28.262924
MMPLL,4, -72.079020, -28.263234
MM1B,84.558720
MOP,Map Open Position,0,0
IWH,Map Image Width/Height,2500,1395
