OziExplorer Map Data File Version 2.2
G19-b-S-A-deLosCobres.png
sg19-2.png
1 ,Map Code,
Pulkovo 1942 (1),, 0.0000, 0.0000,WGS 84
Reserved 1
Reserved 2
Magnetic Variation,,,E
Map Projection,Latitude/Longitude,PolyCal,Yes,AutoCalOnly,No,BSBUseWPX,No
Point01,xy, 82, 117,in, deg, 24, 0.0000,S, 69, 0.0000,W, grid, , , ,
Point02,xy, 1888, 128,in, deg, 24, 0.0000,S, 67, 30.0000,W, grid, , , ,
Point03,xy, 3692, 149,in, deg, 24, 0.0000,S, 66, 0.0000,W, grid, , , ,
Point04,xy, 91, 1426,in, deg, 25, 0.0000,S, 69, 0.0000,W, grid, , , ,
Point05,xy, 1882, 1437,in, deg, 25, 0.0000,S, 67, 30.0000,W, grid, , , ,
Point06,xy, 3672, 1459,in, deg, 25, 0.0000,S, 66, 0.0000,W, grid, , , ,
Point07,xy, 97, 2736,in, deg, 26, 0.0000,S, 69, 0.0000,W, grid, , , ,
Point08,xy, 1872, 2745,in, deg, 26, 0.0000,S, 67, 30.0000,W, grid, , , ,
Point09,xy, 3649, 2768,in, deg, 26, 0.0000,S, 66, 0.0000,W, grid, , , ,
Point10,xy, , ,in, deg, , ,, , ,, grid, , , ,
Point11,xy, , ,in, deg, , ,, , ,, grid, , , ,
Point12,xy, , ,in, deg, , ,, , ,, grid, , , ,
Point13,xy, , ,in, deg, , ,, , ,, grid, , , ,
Point14,xy, , ,in, deg, , ,, , ,, grid, , , ,
Point15,xy, , ,in, deg, , ,, , ,, grid, , , ,
Point16,xy, , ,in, deg, , ,, , ,, grid, , , ,
Point17,xy, , ,in, deg, , ,, , ,, grid, , , ,
Point18,xy, , ,in, deg, , ,, , ,, grid, , , ,
Point19,xy, , ,in, deg, , ,, , ,, grid, , , ,
Point20,xy, , ,in, deg, , ,, , ,, grid, , , ,
Point21,xy, , ,in, deg, , ,, , ,, grid, , , ,
Point22,xy, , ,in, deg, , ,, , ,, grid, , , ,
Point23,xy, , ,in, deg, , ,, , ,, grid, , , ,
Point24,xy, , ,in, deg, , ,, , ,, grid, , , ,
Point25,xy, , ,in, deg, , ,, , ,, grid, , , ,
Point26,xy, , ,in, deg, , ,, , ,, grid, , , ,
Point27,xy, , ,in, deg, , ,, , ,, grid, , , ,
Point28,xy, , ,in, deg, , ,, , ,, grid, , , ,
Point29,xy, , ,in, deg, , ,, , ,, grid, , , ,
Point30,xy, , ,in, deg, , ,, , ,, grid, , , ,
Projection Setup,,,,,,,,,,
Map Feature = MF ; Map Comment = MC These follow if they exist
Track File = TF These follow if they exist
Moving Map Parameters = MM? These follow if they exist
MM0,Yes
MMPNUM,4
MMPXY,1,0,0
MMPXY,2,3809,1
MMPXY,3,3760,2860
MMPXY,4,0,2825
MMPLL,1, -69.067524, -23.910715
MMPLL,2, -65.904816, -23.885275
MMPLL,3, -65.904374, -26.069088
MMPLL,4, -69.081843, -26.068599
MM1B,84.509822
MOP,Map Open Position,0,0
IWH,Map Image Width/Height,2500,1395
