OziExplorer Map Data File Version 2.2
G19A-Taltall.png
sg19-1.png
1 ,Map Code,
Pulkovo 1942 (1),, 0.0000, 0.0000,WGS 84
Reserved 1
Reserved 2
Magnetic Variation,,,E
Map Projection,Latitude/Longitude,PolyCal,Yes,AutoCalOnly,No,BSBUseWPX,No
Point01,xy, 68, 104,in, deg, 24, 0.0000,S, 72, 0.0000,W, grid, , , ,
Point02,xy, 1869, 115,in, deg, 24, 0.0000,S, 70, 30.0000,W, grid, , , ,
Point03,xy, 3673, 136,in, deg, 24, 0.0000,S, 69, 0.0000,W, grid, , , ,
Point04,xy, 73, 1414,in, deg, 25, 0.0000,S, 72, 0.0000,W, grid, , , ,
Point05,xy, 1859, 1422,in, deg, 25, 0.0000,S, 70, 30.0000,W, grid, , , ,
Point06,xy, 3650, 1444,in, deg, 25, 0.0000,S, 69, 0.0000,W, grid, , , ,
Point07,xy, 80, 2723,in, deg, 26, 0.0000,S, 72, 0.0000,W, grid, , , ,
Point08,xy, 1850, 2728,in, deg, 26, 0.0000,S, 70, 30.0000,W, grid, , , ,
Point09,xy, 3627, 2751,in, deg, 26, 0.0000,S, 69, 0.0000,W, grid, , , ,
Point10,xy, , ,in, deg, , ,, , ,, grid, , , ,
Point11,xy, , ,in, deg, , ,, , ,, grid, , , ,
Point12,xy, , ,in, deg, , ,, , ,, grid, , , ,
Point13,xy, , ,in, deg, , ,, , ,, grid, , , ,
Point14,xy, , ,in, deg, , ,, , ,, grid, , , ,
Point15,xy, , ,in, deg, , ,, , ,, grid, , , ,
Point16,xy, , ,in, deg, , ,, , ,, grid, , , ,
Point17,xy, , ,in, deg, , ,, , ,, grid, , , ,
Point18,xy, , ,in, deg, , ,, , ,, grid, , , ,
Point19,xy, , ,in, deg, , ,, , ,, grid, , , ,
Point20,xy, , ,in, deg, , ,, , ,, grid, , , ,
Point21,xy, , ,in, deg, , ,, , ,, grid, , , ,
Point22,xy, , ,in, deg, , ,, , ,, grid, , , ,
Point23,xy, , ,in, deg, , ,, , ,, grid, , , ,
Point24,xy, , ,in, deg, , ,, , ,, grid, , , ,
Point25,xy, , ,in, deg, , ,, , ,, grid, , , ,
Point26,xy, , ,in, deg, , ,, , ,, grid, , , ,
Point27,xy, , ,in, deg, , ,, , ,, grid, , , ,
Point28,xy, , ,in, deg, , ,, , ,, grid, , , ,
Point29,xy, , ,in, deg, , ,, , ,, grid, , , ,
Point30,xy, , ,in, deg, , ,, , ,, grid, , , ,
Projection Setup,,,,,,,,,,
Map Feature = MF ; Map Comment = MC These follow if they exist
Track File = TF These follow if they exist
Moving Map Parameters = MM? These follow if they exist
MM0,Yes
MMPNUM,4
MMPXY,1,0,0
MMPXY,2,3800,2
MMPXY,3,3742,3114
MMPXY,4,0,3085
MMPLL,1, -72.056538, -23.920146
MMPLL,2, -68.897242, -23.895433
MMPLL,3, -68.897469, -26.277047
MMPLL,4, -72.069186, -26.277312
MM1B,84.791290
MOP,Map Open Position,0,0
IWH,Map Image Width/Height,2500,1395
