OziExplorer Map Data File Version 2.2
F24B-Makae.png
sf24-3.png
1 ,Map Code,
Pulkovo 1942 (1),, 0.0000, 0.0000,WGS 84
Reserved 1
Reserved 2
Magnetic Variation,,,E
Map Projection,Latitude/Longitude,PolyCal,Yes,AutoCalOnly,No,BSBUseWPX,No
Point01,xy, 77, 123,in, deg, 22, 0.0000,S, 42, 0.0000,W, grid, , , ,
Point02,xy, 1907, 141,in, deg, 22, 0.0000,S, 40, 30.0000,W, grid, , , ,
Point03,xy, 3736, 162,in, deg, 22, 0.0000,S, 39, 0.0000,W, grid, , , ,
Point04,xy, 79, 1434,in, deg, 23, 0.0000,S, 42, 0.0000,W, grid, , , ,
Point05,xy, 1896, 1447,in, deg, 23, 0.0000,S, 40, 30.0000,W, grid, , , ,
Point06,xy, 3711, 1472,in, deg, 23, 0.0000,S, 39, 0.0000,W, grid, , , ,
Point07,xy, 80, 2745,in, deg, 24, 0.0000,S, 42, 0.0000,W, grid, , , ,
Point08,xy, 1884, 2754,in, deg, 24, 0.0000,S, 40, 30.0000,W, grid, , , ,
Point09,xy, 3685, 2779,in, deg, 24, 0.0000,S, 39, 0.0000,W, grid, , , ,
Point10,xy, , ,in, deg, , ,, , ,, grid, , , ,
Point11,xy, , ,in, deg, , ,, , ,, grid, , , ,
Point12,xy, , ,in, deg, , ,, , ,, grid, , , ,
Point13,xy, , ,in, deg, , ,, , ,, grid, , , ,
Point14,xy, , ,in, deg, , ,, , ,, grid, , , ,
Point15,xy, , ,in, deg, , ,, , ,, grid, , , ,
Point16,xy, , ,in, deg, , ,, , ,, grid, , , ,
Point17,xy, , ,in, deg, , ,, , ,, grid, , , ,
Point18,xy, , ,in, deg, , ,, , ,, grid, , , ,
Point19,xy, , ,in, deg, , ,, , ,, grid, , , ,
Point20,xy, , ,in, deg, , ,, , ,, grid, , , ,
Point21,xy, , ,in, deg, , ,, , ,, grid, , , ,
Point22,xy, , ,in, deg, , ,, , ,, grid, , , ,
Point23,xy, , ,in, deg, , ,, , ,, grid, , , ,
Point24,xy, , ,in, deg, , ,, , ,, grid, , , ,
Point25,xy, , ,in, deg, , ,, , ,, grid, , , ,
Point26,xy, , ,in, deg, , ,, , ,, grid, , , ,
Point27,xy, , ,in, deg, , ,, , ,, grid, , , ,
Point28,xy, , ,in, deg, , ,, , ,, grid, , , ,
Point29,xy, , ,in, deg, , ,, , ,, grid, , , ,
Point30,xy, , ,in, deg, , ,, , ,, grid, , , ,
Projection Setup,,,,,,,,,,
Map Feature = MF ; Map Comment = MC These follow if they exist
Track File = TF These follow if they exist
Moving Map Parameters = MM? These follow if they exist
MM0,Yes
MMPNUM,4
MMPXY,1,0,0
MMPXY,2,3862,3
MMPXY,3,3798,3187
MMPXY,4,0,3151
MMPLL,1, -42.062672, -21.905706
MMPLL,2, -38.899007, -21.875752
MMPLL,3, -38.898887, -24.311360
MMPLL,4, -42.066925, -24.311253
MM1B,84.459583
MOP,Map Open Position,0,0
IWH,Map Image Width/Height,2500,1395
