OziExplorer Map Data File Version 2.2
F22r-Bauru.png
sf22-4.png
1 ,Map Code,
Pulkovo 1942 (1),, 0.0000, 0.0000,WGS 84
Reserved 1
Reserved 2
Magnetic Variation,,,E
Map Projection,Latitude/Longitude,PolyCal,Yes,AutoCalOnly,No,BSBUseWPX,No
Point01,xy, 73, 114,in, deg, 22, 0.0000,S, 51, 0.0000,W, grid, , , ,
Point02,xy, 1905, 108,in, deg, 22, 0.0000,S, 49, 30.0000,W, grid, , , ,
Point03,xy, 3736, 115,in, deg, 22, 0.0000,S, 48, 0.0000,W, grid, , , ,
Point04,xy, 92, 1424,in, deg, 23, 0.0000,S, 51, 0.0000,W, grid, , , ,
Point05,xy, 1909, 1417,in, deg, 23, 0.0000,S, 49, 30.0000,W, grid, , , ,
Point06,xy, 3726, 1424,in, deg, 23, 0.0000,S, 48, 0.0000,W, grid, , , ,
Point07,xy, 109, 2731,in, deg, 24, 0.0000,S, 51, 0.0000,W, grid, , , ,
Point08,xy, 1912, 2724,in, deg, 24, 0.0000,S, 49, 30.0000,W, grid, , , ,
Point09,xy, 3714, 2733,in, deg, 24, 0.0000,S, 48, 0.0000,W, grid, , , ,
Point10,xy, , ,in, deg, , ,, , ,, grid, , , ,
Point11,xy, , ,in, deg, , ,, , ,, grid, , , ,
Point12,xy, , ,in, deg, , ,, , ,, grid, , , ,
Point13,xy, , ,in, deg, , ,, , ,, grid, , , ,
Point14,xy, , ,in, deg, , ,, , ,, grid, , , ,
Point15,xy, , ,in, deg, , ,, , ,, grid, , , ,
Point16,xy, , ,in, deg, , ,, , ,, grid, , , ,
Point17,xy, , ,in, deg, , ,, , ,, grid, , , ,
Point18,xy, , ,in, deg, , ,, , ,, grid, , , ,
Point19,xy, , ,in, deg, , ,, , ,, grid, , , ,
Point20,xy, , ,in, deg, , ,, , ,, grid, , , ,
Point21,xy, , ,in, deg, , ,, , ,, grid, , , ,
Point22,xy, , ,in, deg, , ,, , ,, grid, , , ,
Point23,xy, , ,in, deg, , ,, , ,, grid, , , ,
Point24,xy, , ,in, deg, , ,, , ,, grid, , , ,
Point25,xy, , ,in, deg, , ,, , ,, grid, , , ,
Point26,xy, , ,in, deg, , ,, , ,, grid, , , ,
Point27,xy, , ,in, deg, , ,, , ,, grid, , , ,
Point28,xy, , ,in, deg, , ,, , ,, grid, , , ,
Point29,xy, , ,in, deg, , ,, , ,, grid, , , ,
Point30,xy, , ,in, deg, , ,, , ,, grid, , , ,
Projection Setup,,,,,,,,,,
Map Feature = MF ; Map Comment = MC These follow if they exist
Track File = TF These follow if they exist
Moving Map Parameters = MM? These follow if they exist
MM0,Yes
MMPNUM,4
MMPXY,1,0,0
MMPXY,2,3828,0
MMPXY,3,3800,3078
MMPXY,4,0,3076
MMPLL,1, -51.058351, -21.912189
MMPLL,2, -47.925391, -21.911702
MMPLL,3, -47.925463, -24.263805
MMPLL,4, -51.094450, -24.263440
MM1B,84.492722
MOP,Map Open Position,0,0
IWH,Map Image Width/Height,2500,1395
